BEGIN:VCALENDAR
VERSION:2.0
PRODID:-//Prader-Willi Syndrome Association NZ - ECPv4.9.4//NONSGML v1.0//EN
CALSCALE:GREGORIAN
METHOD:PUBLISH
X-WR-CALNAME:Prader-Willi Syndrome Association NZ
X-ORIGINAL-URL:https://www.pws.org.nz
X-WR-CALDESC:Events for Prader-Willi Syndrome Association NZ
BEGIN:VTIMEZONE
TZID:"Pacific/Auckland"
BEGIN:STANDARD
TZOFFSETFROM:+1300
TZOFFSETTO:+1200
TZNAME:NZST
DTSTART:20190406T140000
END:STANDARD
BEGIN:DAYLIGHT
TZOFFSETFROM:+1200
TZOFFSETTO:+1300
TZNAME:NZDT
DTSTART:20190928T140000
END:DAYLIGHT
END:VTIMEZONE
BEGIN:VEVENT
DTSTART;VALUE=DATE:20191113
DTEND;VALUE=DATE:20191118
DTSTAMP:20260425T165214
CREATED:20181023T022150Z
LAST-MODIFIED:20190624T221257Z
UID:5282-1573603200-1574035199@www.pws.org.nz
SUMMARY:10th International PWS Organisation Conference 2019 - Cuba
DESCRIPTION:This is IPWSO’s 10th international Prader-Willi syndrome conference. These are held every 3 years\, each time in a different country. The conference has 4 different programmes available: Clinical and Scientific\, Parents & Family\, Professional Caregivers and Providers\, plus there will also be activities for people with PWS and other family members. \nThis conference is being held in Havana\, Cuba. Cuba has been an important part of IPWSO’s large ‘family’ of 105 members and has a team of dedicated families and professionals. This conference is being hosted by the Cuban Society of Human Genetics (SOCUGEN). \n\nshare knowledge about Prader-Willi syndrome\nnetwork\, learn and collaborate\nhear great speakers\nmeet scientists\, doctors\, carers and families from around the world\n\nConference fees range from $150-170 USD for parents / families to $250 – 280 USD for professionals. Click here to view fees. \nExpress interest now via the conference website; full registration will open soon. \nPROGRAMME \n\nClinical and scientific conference: 14 to 15 November\nProfessional providers and caregivers conference: 14 to 15 November\nParents and families conference: 16 to 17 November\nActivities for people with PWS: 16 to 17 November\nIPWSO General Assembly: late afternoon 17 November\n\nKey social events: \n\nWelcome reception: evening of 13 November\nCuban dancing show: evening of 14 November\nGala dinner: evening of 15 November\nPresident’s event: evening of 16 November\n\nRegistration\, call for abstracts and conference accommodation advice coming soon! \n
URL:https://www.pws.org.nz/event/10th-international-pws-organisation-conference-2019
LOCATION:Cojimar Conference Centre\, Havana\, Medical University of Havana\, Havana\, Cuba
CATEGORIES:Conferences
ATTACH;FMTTYPE=image/png:https://www.pws.org.nz/wp-content/uploads/2018/10/main-header-logo-1.png
END:VEVENT
END:VCALENDAR