BEGIN:VCALENDAR
VERSION:2.0
PRODID:-//Prader-Willi Syndrome Association NZ - ECPv4.9.4//NONSGML v1.0//EN
CALSCALE:GREGORIAN
METHOD:PUBLISH
X-WR-CALNAME:Prader-Willi Syndrome Association NZ
X-ORIGINAL-URL:https://www.pws.org.nz
X-WR-CALDESC:Events for Prader-Willi Syndrome Association NZ
BEGIN:VTIMEZONE
TZID:"Pacific/Auckland"
BEGIN:STANDARD
TZOFFSETFROM:+1300
TZOFFSETTO:+1200
TZNAME:NZST
DTSTART:20230401T140000
END:STANDARD
BEGIN:DAYLIGHT
TZOFFSETFROM:+1200
TZOFFSETTO:+1300
TZNAME:NZDT
DTSTART:20230923T140000
END:DAYLIGHT
END:VTIMEZONE
BEGIN:VEVENT
DTSTART;TZID="Pacific/Auckland":20230310T160000
DTEND;TZID="Pacific/Auckland":20230312T140000
DTSTAMP:20260422T005533
CREATED:20210807T230112Z
LAST-MODIFIED:20230223T013952Z
UID:7109-1678464000-1678629600@www.pws.org.nz
SUMMARY:PWSA(NZ) Family Camp 2023 (2022)
DESCRIPTION:Our next Family Camp is taking place 10th – 12th March\, 2023. It is being held at MiCamp Taupo. All registrations and contributions for the postponed 2022 camp are being rolled over to 2023 and new registrations are still welcome. \nOur Family Camps are open to people with PWS of all ages to attend with their family or a support worker. \nWe are holding our camp at Taupo again because it was a very comfortable and popular venue\, and logistically\, it is in the middle of the North Island allowing for the majority of North Islanders to make their own way there by car. There are\, of course\, subsidies available for families flying from the South Island. \nREGISTRATION: \nRegister easily by completing this online registration form with your group details.\nIf you are in the South Island\, subsidy payments are available up to the amounts listed below – please try to get the best deals possible by keeping an eye out for deals and booking early.\nRegistration is open until mid January 2023\, or until camp spaces are filled. \nFrom Blenheim – up to $565 pp\nFrom Nelson – up to $410 pp\nFrom Christchurch – up to $355 pp\nPlease contact us if flying from an alternative airport or if camp costs are prohibitive to your being able to attend. \nDETAILS: \nSTART: Friday 10th March 5.30pm (check-in from 4pm)\nFINISH: Sunday 12th March 1.30/2pm\nLOCATION: MiCamp Taupo\nCOST: $40 / adult and $25 / child 5-17yrs (under 5’s free)\nWHO CAN ATTEND: open to people with PWS of all ages to attend with their family or a support worker\n\n  \nPROGRAMME: Instructor led and group led camp activities\, fun evening activities\, breakout groups for adults with PWS\, parents\, and time for more challenging camp activities for siblings.\nClick here for pdf > \n \n\nCOVID-19 POLICY \nThere are no current restrictions on our group size or requirement for masks or vaccine passes. However\, we cannot predict what rules will be in place in March 2023. Therefore\, please assume things may change and there may be rules we need to follow. Additionally\, the PWSA needs to consider the vulnerability of some of our members and any decisions made regarding Covid-19 protocols for Camp 2023 will be with their protection in mind and in consultation Government recommendations and with wider members. \nSUBSIDIES POLICY and note re. FLIGHT BOOKINGS \n\nAs camp has already been postponed\, you can be certain that we will make every effort to make sure it goes ahead in 2023! However\, we may need to postpone if there are serious concerns regarding new variants\, or there are new Government restrictions. We therefore advise checking airline policy regarding changing flights due to any Covid-19 imposed circumstances. Air New Zealand only provide refunds with flexi-refund bookings\, otherwise the airline may issue a credit to use on a new camp date (Air New Zealand policy around this is continually changing.)\nPlease note that the PWSA(NZ) reserves the right to request a refund of any flight subsidies paid if families choose to cancel their registration. Please check dates carefully. 🙂\n\n\n
URL:https://www.pws.org.nz/event/pwsanz-family-camp-2022
LOCATION:MiCamp Taupo\, 100 Rawhira Road\,\, Waitetoko\, RD 2\, Turangi\, 3382\, New Zealand
CATEGORIES:PWSA Events
ATTACH;FMTTYPE=image/jpeg:https://www.pws.org.nz/wp-content/uploads/2020/03/Camp-group.jpg
ORGANIZER;CN="PWSA%28NZ%29":MAILTO:enquiries@pws.org.nz
END:VEVENT
END:VCALENDAR