BEGIN:VCALENDAR
VERSION:2.0
PRODID:-//Prader-Willi Syndrome Association NZ - ECPv4.9.4//NONSGML v1.0//EN
CALSCALE:GREGORIAN
METHOD:PUBLISH
X-WR-CALNAME:Prader-Willi Syndrome Association NZ
X-ORIGINAL-URL:https://www.pws.org.nz
X-WR-CALDESC:Events for Prader-Willi Syndrome Association NZ
BEGIN:VTIMEZONE
TZID:"Pacific/Auckland"
BEGIN:STANDARD
TZOFFSETFROM:+1300
TZOFFSETTO:+1200
TZNAME:NZST
DTSTART:20190406T140000
END:STANDARD
BEGIN:DAYLIGHT
TZOFFSETFROM:+1200
TZOFFSETTO:+1300
TZNAME:NZDT
DTSTART:20190928T140000
END:DAYLIGHT
END:VTIMEZONE
BEGIN:VEVENT
DTSTART;TZID="Pacific/Auckland":20190903T090000
DTEND;TZID="Pacific/Auckland":20190903T140000
DTSTAMP:20260425T164505
CREATED:20190608T013132Z
LAST-MODIFIED:20190624T215610Z
UID:5816-1567501200-1567519200@www.pws.org.nz
SUMMARY:Transition Expo - Auckland
DESCRIPTION:Transition Expo – Auckland\nThis Transition Expo features most Auckland Transition and Vocational Programme Providers as well as an array of leisure\, recreation\, sports and information providers. Transition providers are contracted by the Ministry of Social Development to facilitate a smooth progression from school to community life for a young person with a disability who is ORS (Ongoing Resourcing Scheme) funded. In their final year at school transition coordinators help the student with a disability\, their family and education professionals from the school to decide upon an appropriate community placement for post-school life. This is an important decision for any young person and requires planning and knowledge. \nThis Expo will feature a Transition Seminar in a separate presentation room at 10.30am – 1.5hr seminar – issues covered will include: \n\nEngaging with Taikura Trust at this important transition phase\nThe process for ORS funding and access to vocational programmes upon leaving school\nPost school options including High Needs and Very High Needs Vocational Programmes\, employment possibilities\, micro-enterprise\nInformation about future planning for your loved one with a disability\nUse of supports such as Individualised Funding and Carer Support Subsidy\nOptions for living arrangements – Individualised Funding and Flatting\, Choice in Community Living\, Supported Living\, Residential Care\, etc\nWork & Income supports you may be eligible for\n\nThis Expo is suitable for all students aged between 14-21 years who are ORS funded\, parents\, family members\, caregivers\, education experts\, careers advisors\, school transition coordinators\, teachers and all those involved in the care of a young adult with a disability. \nTransition Providers\, Vocational Service Providers and ‘leisure/recreation’ providers will each have a stall providing information\, pamphlets\, booklets\, DVD’s and promotional material.  Representatives from each organisation will be available for advice including Work and Income\, Ministry of Education and Taikura Trust.  Although this Expo is aimed at ORS funded students\, all students with a disability and those involved in the disability sector would benefit from information available on the day. \n\nfree entry\nplenty of parking\nfully accessible venue\ninformation pack given to each family\ncafe on premises\n\n
URL:https://www.pws.org.nz/event/transition-expo-auckland
LOCATION:Auckland Netball Centre\, 7 Allison Ferguson Drive\, St Johns\, Auckland\, New Zealand
CATEGORIES:Events
ATTACH;FMTTYPE=image/jpeg:https://www.pws.org.nz/wp-content/uploads/2018/05/disability-connect.jpg
ORGANIZER;CN="Disability%20Connect":MAILTO:admin@disabilityconnect.org.nz
END:VEVENT
END:VCALENDAR